BEGIN:VCALENDAR
VERSION:2.0
PRODID:-//eventon.com NONSGML v1.0//EN
CALSCALE:GREGORIAN
METHOD:PUBLISH
BEGIN:VEVENT
UID:69e5fd9a35fbe
DTSTAMP:20260420T101906Z
DTSTART:20251108T103000Z
DTEND:20251108T123000Z
LOCATION:The Pour House 28a St John's Street\,  Devizes\,  SN10 1BN
SUMMARY:Menopause Cafe Devizes\,  Wiltshire
DESCRIPTION:Contact: elizabethdenbury@gmail.com\nhttps://www.menopausecafe.
 net/events/menopause-cafe-devizes-4/
URL:https://www.menopausecafe.net/events/menopause-cafe-devizes-4/
END:VEVENT
END:VCALENDAR