BEGIN:VCALENDAR
VERSION:2.0
PRODID:-//eventon.com NONSGML v1.0//EN
CALSCALE:GREGORIAN
METHOD:PUBLISH
BEGIN:VEVENT
UID:69e5ee569abae
DTSTAMP:20260420T091358Z
DTSTART:20260224T093000Z
DTEND:20260224T113000Z
LOCATION:Greater Manchester Mental Health NHS Foundation Trust Bury New Road\,  Prestwich\,  Manchester M25 3BL\,  United Kingdom
SUMMARY:Menopause Cafe GMMH\,  Greater Manchester
DESCRIPTION:A workplace Menopause Café open to all staff and volunteers at
  Greater Manchester Mental Health NHS Foundation Trust\nhttps://www.menopau
 secafe.net/events/gmmh-menopause-cafe-at-work-7/
URL:https://www.menopausecafe.net/events/gmmh-menopause-cafe-at-work-7/
END:VEVENT
END:VCALENDAR