BEGIN:VCALENDAR
VERSION:2.0
PRODID:-//eventon.com NONSGML v1.0//EN
CALSCALE:GREGORIAN
METHOD:PUBLISH
BEGIN:VEVENT
UID:69e736d5a1d1d
DTSTAMP:20260421T083533Z
DTSTART:20251116T180000Z
DTEND:20251116T200000Z
LOCATION:Portico Lounge 5 Frogmore Street Abergavenny NP7 5AE
SUMMARY:CANCELLED - Menopause Cafe Abergavenny\,  Monmouthshire
DESCRIPTION:CANCELLED &#8211; APOLOGIES\nhttps://www.menopausecafe.net/even
 ts/abergavenny-menopause-cafe-4/
URL:https://www.menopausecafe.net/events/abergavenny-menopause-cafe-4/
END:VEVENT
END:VCALENDAR