BEGIN:VCALENDAR
VERSION:2.0
PRODID:-//eventon.com NONSGML v1.0//EN
CALSCALE:GREGORIAN
METHOD:PUBLISH
BEGIN:VEVENT
UID:69e5edae536cc
DTSTAMP:20260420T091110Z
DTSTART:20260328T110000Z
DTEND:20260328T130000Z
LOCATION:The Redmore Inn Hayfield Hill\,  Rugeley\,  Staffordshire\,  WS15 4RU
SUMMARY:Menopause Cafe Burntwood\,  Staffordshire
DESCRIPTION:Samantha Jones samlee126@hotmail.com 07866 746215 See URL below
  to book.\nhttps://www.menopausecafe.net/events/menopause-cafe-lichfield-10
 /
URL:https://www.menopausecafe.net/events/menopause-cafe-lichfield-10/
END:VEVENT
END:VCALENDAR