BEGIN:VCALENDAR
VERSION:2.0
PRODID:-//eventon.com NONSGML v1.0//EN
CALSCALE:GREGORIAN
METHOD:PUBLISH
BEGIN:VEVENT
UID:69e5ed8f6fdc9
DTSTAMP:20260420T091039Z
DTSTART:20251129T113000Z
DTEND:20251129T133000Z
LOCATION:Acomb Garth Community Care Centre 2 Oak Rise\,  Acomb\,  York. YO24 4LJ
SUMMARY:Menopause Cafe\,  York UK
DESCRIPTION:Kirsty Dixon Mobile no:  07871 183939 Email:  kirstydixon67@g
 mail.com See URL below to book.\nhttps://www.menopausecafe.net/events/menop
 ause-cafe-york-uk-2/var/ri-1.l-L1
URL:https://www.menopausecafe.net/events/menopause-cafe-york-uk-2/var/ri-1.l-L1
END:VEVENT
END:VCALENDAR