BEGIN:VCALENDAR
VERSION:2.0
PRODID:-//eventon.com NONSGML v1.0//EN
CALSCALE:GREGORIAN
METHOD:PUBLISH
BEGIN:VEVENT
UID:69e5ee35c511b
DTSTAMP:20260420T091325Z
DTSTART:20251115T140000Z
DTEND:20251115T153000Z
LOCATION:Cowley Library Temple Road Oxford OX4 2EZ
SUMMARY:Menopause Cafe Cowley\,  Oxford
DESCRIPTION:Whether you’re right in the thick of it\,  curious or support
 ing someone else\,  this spaceis for you. There’s no set agenda\,  no spe
 akers\,  no pressure. Just real peoplesharing real stories over tea\,  coff
 ee and perhaps some cake. Menopause Cafes are discussion groups focused on 
 breaking down the stigma aroundmenopause and[..]\nhttps://www.menopausecafe
 .net/events/menopause-cafe-cowley-oxford-2/
URL:https://www.menopausecafe.net/events/menopause-cafe-cowley-oxford-2/
END:VEVENT
END:VCALENDAR