BEGIN:VCALENDAR
VERSION:2.0
PRODID:-//eventon.com NONSGML v1.0//EN
CALSCALE:GREGORIAN
METHOD:PUBLISH
BEGIN:VEVENT
UID:69e5ef5a16919
DTSTAMP:20260420T091818Z
DTSTART:20251209T180000Z
DTEND:20251209T190000Z
LOCATION:John Pounds Centre 23 Queen St\,  Portsea\,  Portsmouth PO1 3HN
SUMMARY:Menopause Cafe Portsea\,  Portsmouth\,  Hampshire
DESCRIPTION:At the library / cafe area of John Pounds Community Centre See 
 URL below to book.\nhttps://www.menopausecafe.net/events/menopause-cafe-por
 tsea-2/
URL:https://www.menopausecafe.net/events/menopause-cafe-portsea-2/
END:VEVENT
END:VCALENDAR