BEGIN:VCALENDAR
VERSION:2.0
PRODID:-//eventon.com NONSGML v1.0//EN
CALSCALE:GREGORIAN
METHOD:PUBLISH
BEGIN:VEVENT
UID:69e5ee130e64e
DTSTAMP:20260420T091251Z
DTSTART:20251201T190000Z
DTEND:20251201T210000Z
LOCATION:The Old Bull Inn 59 High Street\,  Royston\,  SG8 9AW
SUMMARY:Menopause Cafe Royston\,  Hertfordshire
DESCRIPTION:Menopause Cafe Royston is an opportunity to relax and talk abou
 t menopause in a safe environment with no preset agenda. It is free and ope
 n to everyone regardless of age and gender. There are no sales or promotion
 s and there is no intention of leading participants to any conclusion\,  pr
 oduct[..]\nhttps://www.menopausecafe.net/events/menopause-cafe-royston-12/
URL:https://www.menopausecafe.net/events/menopause-cafe-royston-12/
END:VEVENT
END:VCALENDAR