BEGIN:VCALENDAR
VERSION:2.0
PRODID:-//eventon.com NONSGML v1.0//EN
CALSCALE:GREGORIAN
METHOD:PUBLISH
BEGIN:VEVENT
UID:69e9e0a7f3f25
DTSTAMP:20260423T090439Z
DTSTART:20251117T170000Z
DTEND:20251117T180000Z
LOCATION:University of Waterloo On Campus\,  Waterloo
SUMMARY:Menopause Cafe University of Waterloo\,  Ontario
DESCRIPTION:Menopause Cafe University of Waterloo\,  Ontario\nhttps://www.m
 enopausecafe.net/events/university-of-waterloo/
URL:https://www.menopausecafe.net/events/university-of-waterloo/
END:VEVENT
END:VCALENDAR