BEGIN:VCALENDAR
VERSION:2.0
PRODID:-//eventon.com NONSGML v1.0//EN
CALSCALE:GREGORIAN
METHOD:PUBLISH
BEGIN:VEVENT
UID:69e7394105bac
DTSTAMP:20260421T084553Z
DTSTART:20251203T180000Z
DTEND:20251203T193000Z
LOCATION:Langstone Quays Resort Northney Rd\,  Portsmouth\,  Hayling Island PO11 0NQ 
SUMMARY:Menopause Cafe Hayling Island\,  Hampshire
DESCRIPTION:See URL below to book\nhttps://www.menopausecafe.net/events/hay
 ling-island-menopause-cafe-4/
URL:https://www.menopausecafe.net/events/hayling-island-menopause-cafe-4/
END:VEVENT
END:VCALENDAR