BEGIN:VCALENDAR
VERSION:2.0
PRODID:-//eventon.com NONSGML v1.0//EN
CALSCALE:GREGORIAN
METHOD:PUBLISH
BEGIN:VEVENT
UID:69e9e134bc63a
DTSTAMP:20260423T090700Z
DTSTART:20251202T140000Z
DTEND:20251202T153000Z
LOCATION:Heathers 86 Kingsley Park Terrace\,  Northampton. NN2 7HJ
SUMMARY:Menopause Cafe Kingsley\,  Northampton
DESCRIPTION:Menopause Cafe Kingsley\,  Northampton\nhttps://www.menopauseca
 fe.net/events/menopause-cafe-kingsley-northampton-11/
URL:https://www.menopausecafe.net/events/menopause-cafe-kingsley-northampton-11/
END:VEVENT
END:VCALENDAR