BEGIN:VCALENDAR
VERSION:2.0
PRODID:-//eventon.com NONSGML v1.0//EN
CALSCALE:GREGORIAN
METHOD:PUBLISH
BEGIN:VEVENT
UID:69e4ed3947b66
DTSTAMP:20260419T145657Z
DTSTART:20260204T180000Z
DTEND:20260204T193000Z
LOCATION:Blend Coffee Lounge\,  Perth 274 High St\,  Perth PH1 5QJ
SUMMARY:Menopause Cafe Perth\,  Scotland
DESCRIPTION:See URL below to book.\nhttps://www.menopausecafe.net/events/me
 nopause-cafe-perth-scotland/
URL:https://www.menopausecafe.net/events/menopause-cafe-perth-scotland/
END:VEVENT
END:VCALENDAR