BEGIN:VCALENDAR
VERSION:2.0
PRODID:-//eventon.com NONSGML v1.0//EN
CALSCALE:GREGORIAN
METHOD:PUBLISH
BEGIN:VEVENT
UID:69e73a00d68eb
DTSTAMP:20260421T084904Z
DTSTART:20260108T130000Z
DTEND:20260108T143000Z
LOCATION:Fujifilm Diosynth Biotechnologies Belasis Avenue\,  Billingham TS23 1LH
SUMMARY:Menopause Cafe\,  FDBK\,  Billingham
DESCRIPTION:Marie Smith marie.smith@fujifilm.com\nhttps://www.menopausecafe
 .net/events/menopause-cafe-fdbk-billingham-2/
URL:https://www.menopausecafe.net/events/menopause-cafe-fdbk-billingham-2/
END:VEVENT
END:VCALENDAR