BEGIN:VCALENDAR
VERSION:2.0
PRODID:-//eventon.com NONSGML v1.0//EN
CALSCALE:GREGORIAN
METHOD:PUBLISH
BEGIN:VEVENT
UID:69e5ef2152686
DTSTAMP:20260420T091721Z
DTSTART:20260507T120000Z
DTEND:20260507T133000Z
LOCATION:Fujifilm Diosynth Biotechnologies Belasis Avenue\,  Billingham TS23 1LH
SUMMARY:Menopause Cafe\,  FDBK\,  Billingham
DESCRIPTION:Marie Smith marie.smith@fujifilm.com\nhttps://www.menopausecafe
 .net/events/menopause-cafe-fdbk-billingham-2/var/ri-6.l-L1
URL:https://www.menopausecafe.net/events/menopause-cafe-fdbk-billingham-2/var/ri-6.l-L1
END:VEVENT
END:VCALENDAR