BEGIN:VCALENDAR
VERSION:2.0
PRODID:-//eventon.com NONSGML v1.0//EN
CALSCALE:GREGORIAN
METHOD:PUBLISH
BEGIN:VEVENT
UID:69e750842129e
DTSTAMP:20260421T102508Z
DTSTART:20260110T150000Z
DTEND:20260110T170000Z
LOCATION:Online Menopause Cafe
SUMMARY:Menopause Cafe Online from South London
DESCRIPTION:The Menopause Care South London is mainly held online so we wel
 come anyone from anywhere in the world! The event is run by Victoria\,  Emi
 ko\,  Helen and Catherine and we would love to see you to chat about all th
 ings menopause. If you have any questions and to book please[..]\nhttps://w
 ww.menopausecafe.net/events/menopause-cafe-south-london-2/
URL:https://www.menopausecafe.net/events/menopause-cafe-south-london-2/
END:VEVENT
END:VCALENDAR