BEGIN:VCALENDAR
VERSION:2.0
PRODID:-//eventon.com NONSGML v1.0//EN
CALSCALE:GREGORIAN
METHOD:PUBLISH
BEGIN:VEVENT
UID:69e5ebf7720b1
DTSTAMP:20260420T090351Z
DTSTART:20260318T180000Z
DTEND:20260318T210000Z
LOCATION:Camouflage Cafe Arnott Close Thamesmead SE28 8BG
SUMMARY:Menopause Cafe Thamesmead\,  Greenwich
DESCRIPTION:See URL below to book\nhttps://www.menopausecafe.net/events/men
 opause-cafe-thamesmead-greenwich-2/var/ri-2.l-L1
URL:https://www.menopausecafe.net/events/menopause-cafe-thamesmead-greenwich-2/var/ri-2.l-L1
END:VEVENT
END:VCALENDAR