BEGIN:VCALENDAR
VERSION:2.0
PRODID:-//eventon.com NONSGML v1.0//EN
CALSCALE:GREGORIAN
METHOD:PUBLISH
BEGIN:VEVENT
UID:69e739504d18d
DTSTAMP:20260421T084608Z
DTSTART:20260205T091500Z
DTEND:20260205T110000Z
LOCATION:The Swan 2 Hare Ln\,  Claygate\,  Esher KT10 9BS
SUMMARY:Menopause Cafe\,  Esher\,  Surrey
DESCRIPTION:See URL below to book.\nhttps://www.menopausecafe.net/events/me
 nopause-cafe-esher-surrey-3/
URL:https://www.menopausecafe.net/events/menopause-cafe-esher-surrey-3/
END:VEVENT
END:VCALENDAR