BEGIN:VCALENDAR
VERSION:2.0
PRODID:-//eventon.com NONSGML v1.0//EN
CALSCALE:GREGORIAN
METHOD:PUBLISH
BEGIN:VEVENT
UID:69e5eebca734a
DTSTAMP:20260420T091540Z
DTSTART:20260325T190000Z
DTEND:20260325T210000Z
LOCATION:The Lantern Hub 195 - 205 Worple Road\,  Raynes Park SW20 8RA
SUMMARY:Menopause Cafe Wimbledon. London
DESCRIPTION:See URL below to book\nhttps://www.menopausecafe.net/events/men
 opause-cafe-wimbledon/
URL:https://www.menopausecafe.net/events/menopause-cafe-wimbledon/
END:VEVENT
END:VCALENDAR