BEGIN:VCALENDAR
VERSION:2.0
PRODID:-//eventon.com NONSGML v1.0//EN
CALSCALE:GREGORIAN
METHOD:PUBLISH
BEGIN:VEVENT
UID:69e5eeae9b011
DTSTAMP:20260420T091526Z
DTSTART:20260320T100000Z
DTEND:20260320T120000Z
LOCATION:ME Project The Office\,  Phoenix House\,  Sandall Carr Road\,  Kirk Sandall\,  Doncaster\,  DN3 1QL
SUMMARY:Menopause Cafe Doncaster ME Project
DESCRIPTION:Contact Sarah: sarahbroomtherapy@gmail.com\nhttps://www.menopau
 secafe.net/events/menopause-cafe-doncaster-me-project-8/
URL:https://www.menopausecafe.net/events/menopause-cafe-doncaster-me-project-8/
END:VEVENT
END:VCALENDAR