BEGIN:VCALENDAR
VERSION:2.0
PRODID:-//eventon.com NONSGML v1.0//EN
CALSCALE:GREGORIAN
METHOD:PUBLISH
BEGIN:VEVENT
UID:69e5edcac4a16
DTSTAMP:20260420T091138Z
DTSTART:20260320T120000Z
DTEND:20260320T130000Z
LOCATION:Menopause Meet and Mingle Cafe Walsall Manor Hospital  Moat Road  Walsall  WS2 9PS
SUMMARY:Menopause Cafe Walsall Healthcare Trust
DESCRIPTION:This is a workplace Meet &amp; Mingle Cafe event for Walsall He
 althcare Trust for staff only. Contact: tracy.nicholls8@nhs.net\nhttps://ww
 w.menopausecafe.net/events/menopause-cafe-walsall-healthcare-trust-2/var/ri
 -1.l-L1
URL:https://www.menopausecafe.net/events/menopause-cafe-walsall-healthcare-trust-2/var/ri-1.l-L1
END:VEVENT
END:VCALENDAR