BEGIN:VCALENDAR
VERSION:2.0
PRODID:-//eventon.com NONSGML v1.0//EN
CALSCALE:GREGORIAN
METHOD:PUBLISH
BEGIN:VEVENT
UID:69e5eea426b2d
DTSTAMP:20260420T091516Z
DTSTART:20260319T183000Z
DTEND:20260319T203000Z
LOCATION:Wellswill Cottage 9 Manor Road\,  Dersingham\,  Norfolk PE31 6LD
SUMMARY:Menopause Cafe Dersingham\,  Norfolk
DESCRIPTION:See URL below to book\nhttps://www.menopausecafe.net/events/men
 opause-cafe-dersingham-norfolk-2/var/ri-10.l-L1
URL:https://www.menopausecafe.net/events/menopause-cafe-dersingham-norfolk-2/var/ri-10.l-L1
END:VEVENT
END:VCALENDAR