BEGIN:VCALENDAR
VERSION:2.0
PRODID:-//eventon.com NONSGML v1.0//EN
CALSCALE:GREGORIAN
METHOD:PUBLISH
BEGIN:VEVENT
UID:69e5ebdf04150
DTSTAMP:20260420T090327Z
DTSTART:20260330T170000Z
DTEND:20260330T190000Z
LOCATION:New Ash Green village centre\,  Kent New Ash Green Nutrition\,  17 The Row\,  New Ash Green\,  Kent. DA3 8JB
SUMMARY:Menopause Cafe New Ash Green\,  Kent
DESCRIPTION:Please come and join us for our Menopause Cafe &#8211; New Ash 
 Green. Come and talk menopause with us. We had such a great time at our fir
 st event and we would love to see you at our February and March events. Con
 tact: angiehilliard@live.com\nhttps://www.menopausecafe.net/events/menopaus
 e-cafe-new-ash-green/var/ri-1.l-L1
URL:https://www.menopausecafe.net/events/menopause-cafe-new-ash-green/var/ri-1.l-L1
END:VEVENT
END:VCALENDAR