BEGIN:VCALENDAR
VERSION:2.0
PRODID:-//eventon.com NONSGML v1.0//EN
CALSCALE:GREGORIAN
METHOD:PUBLISH
BEGIN:VEVENT
UID:69e5ebdf253f9
DTSTAMP:20260420T090327Z
DTSTART:20260319T193000Z
DTEND:20260319T213000Z
LOCATION:Coppa Club\,  Streatley High Street\,  Streatley-on-Thames\,  RG89HR
SUMMARY:Menopause Cafe Streatley\,  Berkshire
DESCRIPTION:We are looking forward to welcoming you at our Meno Cafe in Str
 eatley on Thames\,  at the beautiful Coppa Club\,  The Swan\,  on the river
 . Sophia Cleverly  sophiacleverlycoaching@gmail.com See URL for more info 
 &amp; to book.\nhttps://www.menopausecafe.net/events/menopause-cafe-streatl
 ey-berkshire-2/
URL:https://www.menopausecafe.net/events/menopause-cafe-streatley-berkshire-2/
END:VEVENT
END:VCALENDAR