BEGIN:VCALENDAR
VERSION:2.0
PRODID:-//eventon.com NONSGML v1.0//EN
CALSCALE:GREGORIAN
METHOD:PUBLISH
BEGIN:VEVENT
UID:69e5e99d07cb7
DTSTAMP:20260420T085349Z
DTSTART:20260328T103000Z
DTEND:20260328T120000Z
LOCATION:Relationships MK 47 Aylesbury Street\,  MILTON KEYNES MK12 5HX\,  United Kingdom
SUMMARY:Menopause Cafe\,  Milton Keynes\,  Buckinghamshire
DESCRIPTION:See URL below for further info.\nhttps://www.menopausecafe.net/
 events/menopause-cafe-milton-keynes-2/
URL:https://www.menopausecafe.net/events/menopause-cafe-milton-keynes-2/
END:VEVENT
END:VCALENDAR