BEGIN:VCALENDAR
VERSION:2.0
PRODID:-//eventon.com NONSGML v1.0//EN
CALSCALE:GREGORIAN
METHOD:PUBLISH
BEGIN:VEVENT
UID:69e5eb54578d0
DTSTAMP:20260420T090108Z
DTSTART:20260222T100000Z
DTEND:20260222T120000Z
LOCATION:Ormo lounge Llandudno 2-6 Gloddaeth St\,  Llandudno LL30 2DR2-6 Gloddaeth St\,  Llandudno LL30 2DR
SUMMARY:Menopause Cafe Conwy\,  Wales
DESCRIPTION:Menopause Cafe Conwy\,  Wales\nhttps://www.menopausecafe.net/ev
 ents/menopause-cafe-conwy-2/
URL:https://www.menopausecafe.net/events/menopause-cafe-conwy-2/
END:VEVENT
END:VCALENDAR