BEGIN:VCALENDAR
VERSION:2.0
PRODID:-//eventon.com NONSGML v1.0//EN
CALSCALE:GREGORIAN
METHOD:PUBLISH
BEGIN:VEVENT
UID:69e5ee37d2a67
DTSTAMP:20260420T091327Z
DTSTART:20260331T093000Z
DTEND:20260331T225900Z
LOCATION:Mansfield Building Society Regent House\,  Regent Street\,  Mansfield
SUMMARY:Menopause Cafe Mansfield Building Society\,  Nottinghamshire
DESCRIPTION:Menopause Cafe Mansfield Building Society\,  Nottinghamshire\nh
 ttps://www.menopausecafe.net/events/menopause-cafe-mansfield-building-socie
 ty-nottinghamshire/
URL:https://www.menopausecafe.net/events/menopause-cafe-mansfield-building-society-nottinghamshire/
END:VEVENT
END:VCALENDAR