BEGIN:VCALENDAR
VERSION:2.0
PRODID:-//eventon.com NONSGML v1.0//EN
CALSCALE:GREGORIAN
METHOD:PUBLISH
BEGIN:VEVENT
UID:69e5edc89eaad
DTSTAMP:20260420T091136Z
DTSTART:20260329T090000Z
DTEND:20260329T103000Z
LOCATION:Rowans 135 High Street\,  Ilford\,  Essex IG6 2AJ\,  United Kindom
SUMMARY:Menopause Cafe Redbridge\,  Barkingside\,  Essex
DESCRIPTION:See URL below to book\nhttps://www.menopausecafe.net/events/men
 opause-cafe-redbridge-barkingside-essex-2/
URL:https://www.menopausecafe.net/events/menopause-cafe-redbridge-barkingside-essex-2/
END:VEVENT
END:VCALENDAR