BEGIN:VCALENDAR
VERSION:2.0
PRODID:-//eventon.com NONSGML v1.0//EN
CALSCALE:GREGORIAN
METHOD:PUBLISH
BEGIN:VEVENT
UID:69e5ea0d21498
DTSTAMP:20260420T085541Z
DTSTART:20260326T120000Z
DTEND:20260326T130000Z
LOCATION:Online
SUMMARY:Menopause Cafe Borders Healthy Working Lives
DESCRIPTION:Healthy Working Lives Scottish Borders &#8211; Online Menopause
  Cafe See URL below to book.\nhttps://www.menopausecafe.net/events/menopaus
 e-cafe-borders-healthy-working-lives-7/
URL:https://www.menopausecafe.net/events/menopause-cafe-borders-healthy-working-lives-7/
END:VEVENT
END:VCALENDAR