BEGIN:VCALENDAR
VERSION:2.0
PRODID:-//eventon.com NONSGML v1.0//EN
CALSCALE:GREGORIAN
METHOD:PUBLISH
BEGIN:VEVENT
UID:69e5ee10dfdcc
DTSTAMP:20260420T091248Z
DTSTART:20260324T190000Z
DTEND:20260324T203000Z
LOCATION:Rich &amp; Fancy 11-13 Queen St\,  Horbury\,  Wakefield WF4 6LP
SUMMARY:Menopause Cafe Horbury\,  Wakefield
DESCRIPTION:To book please message Lou on Rich and Fancy fb page or e-mail:
  cakeswakefield@googlemail.com Our cafe is every 6 weeks so we have lots to
  talk about. Great support and everyone is welcome. Jane and  Lou\nhttps:/
 /www.menopausecafe.net/events/menopause-cafe-horbury-wakefield-2/
URL:https://www.menopausecafe.net/events/menopause-cafe-horbury-wakefield-2/
END:VEVENT
END:VCALENDAR