BEGIN:VCALENDAR
VERSION:2.0
PRODID:-//eventon.com NONSGML v1.0//EN
CALSCALE:GREGORIAN
METHOD:PUBLISH
BEGIN:VEVENT
UID:69e5ee1464e34
DTSTAMP:20260420T091252Z
DTSTART:20260324T100000Z
DTEND:20260324T113000Z
LOCATION:Maelfa Hub\,  Llanedeyrn Llanedeyrn Health Centre - Wellbeing Hub\,  Cardiff\,  CF23 9PN\,  Cardiff CF23 9PN\,  Wales\,  UK
SUMMARY:Menopause Cafe Llanedeyrn\,  Cardiff
DESCRIPTION:No booking required\,  come along and pop in. Everyone welcome\
 nhttps://www.menopausecafe.net/events/menopause-cafe-east-cardiff-cluster-m
 aelfa-hub-llanedeyrn/
URL:https://www.menopausecafe.net/events/menopause-cafe-east-cardiff-cluster-maelfa-hub-llanedeyrn/
END:VEVENT
END:VCALENDAR