BEGIN:VCALENDAR
VERSION:2.0
PRODID:-//eventon.com NONSGML v1.0//EN
CALSCALE:GREGORIAN
METHOD:PUBLISH
BEGIN:VEVENT
UID:69e8b18e1a616
DTSTAMP:20260422T113126Z
DTSTART:20260930T170000Z
DTEND:20260930T183000Z
LOCATION:Bazeni Cerine Miroslava Krleže 81\,  Koprivnica\,  Croatia 48000\,  Croatia
SUMMARY:Manopause Cafe Koprivnica\,  Croatia
DESCRIPTION:Dijana Mateša mudrodrvo@gmail.com You are welcome to join us i
 f you have something you would like to share. Also\,  feel free to join in 
 if you only wish to listen to the conversation and enjoy your drink with us
 . We meet monthly\,  every last Wednesday of the month. \nhttps://www.meno
 pausecafe.net/events/manopause-cafe-koprivnica-croatia-4/var/ri-5.l-L1
URL:https://www.menopausecafe.net/events/manopause-cafe-koprivnica-croatia-4/var/ri-5.l-L1
END:VEVENT
END:VCALENDAR